BEGIN:VCALENDAR
VERSION:2.0
PRODID:LFV Website-Kit
METHOD:PUBLISH
BEGIN:VEVENT
UID:lfv-ed64aa26-a599-418f-939d-f990ea4999f4
LOCATION:
SUMMARY:FW Übung Aktiv
DESCRIPTION:Löschgruppe 1, 5\n\nTermin Link: https://www.feuerwehr-surberg.de/termine/fw-ubung-aktiv-32/
URL:https://www.feuerwehr-surberg.de/termine/fw-ubung-aktiv-32/
CLASS:PRIVATE
DTSTART;TZID=Europe/Berlin:20251110T190000
DTEND;TZID=Europe/Berlin:20251110T210000
DTSTAMP:20260421T085338Z
END:VEVENT
END:VCALENDAR