BEGIN:VCALENDAR
VERSION:2.0
PRODID:LFV Website-Kit
METHOD:PUBLISH
BEGIN:VEVENT
UID:lfv-e1bd2997-ed6c-43e4-9287-e6a818b19d49
LOCATION:
SUMMARY:FW-Übung Aktiv
DESCRIPTION:Löschgruppe 3, 5, 6\n\nTermin Link: https://www.feuerwehr-surberg.de/termine/fw-ubung-aktiv-8/
URL:https://www.feuerwehr-surberg.de/termine/fw-ubung-aktiv-8/
CLASS:PRIVATE
DTSTART;TZID=Europe/Berlin:20240617T190000
DTEND;TZID=Europe/Berlin:20240617T210000
DTSTAMP:20260426T041557Z
END:VEVENT
END:VCALENDAR